BEGIN:VCALENDAR
VERSION:2.0
BEGIN:VEVENT
UID:98E5D763-03BD-4C10-9BCB-A57EF22DDFEE
DTSTART:20231020T180000Z
DTEND:20231020T210000Z
SUMMARY:CityLine LIVE Fall Concert Series
DESCRIPTION:The CityLine LIVE concert is here with a lineup of local talent
  stacked with a variety of music genres including Pop\, Rock\, Country and
  Jazz. \nRunning through October 28\, friends and family are encouraged to
  enjoy the free outdoor music series from 6 to 9 p.m. on the Plaza. Check
  out the to-go cocktail options offered at all CityLine restaurants before
  you settle down on the lawn or visit any State Street restaurant to enjoy
  the music dining al fresco on the patio. \nCityLine  restaurant options
   like  Oni Ramen \,  Ace’s Sports Hangar \,  Fernando’s Mexican Cuisine \
 ,  Good Union Urban BBQ \,  Char’d Southeast Asian Kitchen \,   Tricky Fis
 h \,  The Brass Tap  and  Jasper’s  offer several to-go options for you to
  savor alongside the tunes.\nCityLine Plaza\n1150 State Street\nRichardson
 \, TX 75082 United States\n
LOCATION:1150 State Street\, Richardson\, TX 75082
URL:http://richardson.bubblelife.com/community/richardson_calendar/library/
 35609482/key/3511058882/CityLine_LIVE_Fall_Concert_Series
CREATED:20231010T160333Z
LAST-MODIFIED:20231010T160333Z
DTSTAMP:20260423T044726Z
CLASS:PUBLIC
STATUS:CONFIRMED
TRANSP:TRANSPARENT
SEQUENCE:1
END:VEVENT
END:VCALENDAR
