BEGIN:VCALENDAR
VERSION:2.0
BEGIN:VEVENT
UID:DE528AB1-2AFC-49EC-9972-428E4292A552
DTSTART:20231209T130000Z
DTEND:20231209T210000Z
SUMMARY:Merry Market at CityLine
DESCRIPTION:Get a head start on your holiday shopping at Merry Market on Sa
 turday\, December 9 at CityLine in Richardson. In partnership with The Boh
 o Market \, more than 65 vendors will be stationed throughout the CityLine
  Plaza and State Street with handmade and vintage goods. \nCome celebrate
  the holidays with us and see over half a million holiday lights illuminat
 ing The Plaza in a cheerful glow from Nov. 10 through Jan. 5 for CityLine
  LIGHTS .\nCityLine Plaza\n1150 State Street\nRichardson\, TX 75082 United
  States\n
LOCATION:1150 State Street\, Richardson\, TX 75082
URL:http://richardson.bubblelife.com/community/richardson_calendar/library/
 35609482/key/3511084263/Merry_Market_at_CityLine
CREATED:20231113T175559Z
LAST-MODIFIED:20231113T175559Z
DTSTAMP:20260423T044726Z
CLASS:PUBLIC
STATUS:CONFIRMED
TRANSP:TRANSPARENT
SEQUENCE:1
END:VEVENT
END:VCALENDAR
