BEGIN:VCALENDAR
VERSION:2.0
BEGIN:VEVENT
UID:620DF941-8D24-4098-BF9A-5AED02E17C33
DTSTART:20240420T180000Z
DTEND:20240420T210000Z
SUMMARY:CityLine LIVE featuring Texas Jazz Cats
DESCRIPTION:CityLine LIVE Concert Series will return to the CityLine Plaza
  on Friday\, April 5! Soak up the weekend outside in The Plaza every Frida
 y and Saturday in April and May from 6 to 9 p.m.   \nBring your own picnic
  blankets and lawn chairs to listen to each artist on The Plaza lawn or li
 sten from any State Street restaurant patio. This free event is BYOB\, dog
 -friendly and kid-friendly with free garage parking.\nThe Plaza at CityLin
 e\n1150 State St.\nRichardson\, TX 75082 United States\n
LOCATION:1150 State St.\, Richardson\, TX 75082
URL:http://richardson.bubblelife.com/community/richardson_calendar/library/
 35609482/key/3511255162/CityLine_LIVE_featuring_Texas_Jazz_Cats
CREATED:20240314T212506Z
LAST-MODIFIED:20240314T212506Z
DTSTAMP:20260423T044726Z
CLASS:PUBLIC
STATUS:CONFIRMED
TRANSP:TRANSPARENT
SEQUENCE:1
END:VEVENT
END:VCALENDAR
