BEGIN:VCALENDAR
VERSION:2.0
BEGIN:VEVENT
UID:FEEB40F5-3422-4FE9-91E4-136CC54EB9E5
DTSTART:20240406T180000Z
DTEND:20240406T210000Z
SUMMARY:CityLine LIVE featuring Andrea Venezio
DESCRIPTION:CityLine LIVE Concert Series will return to the CityLine Plaza
  on Friday\, April 5! Soak up the weekend outside in The Plaza every Frida
 y and Saturday in April and May from 6 to 9 p.m.   \nBring your own picnic
  blankets and lawn chairs to listen to each artist on The Plaza lawn or li
 sten from any State Street restaurant patio. This free event is BYOB\, dog
 -friendly and kid-friendly with free garage parking.\nThe Plaza at CityLin
 e\n1150 State St.\nRichardson\, TX 75082 United States\n
LOCATION:1150 State St.\, Richardson\, TX 75082
URL:http://richardson.bubblelife.com/community/richardson_calendar/library/
 35609482/key/3511255432/CityLine_LIVE_featuring_Andrea_Venezio
CREATED:20240314T213123Z
LAST-MODIFIED:20240314T213123Z
DTSTAMP:20260423T044725Z
CLASS:PUBLIC
STATUS:CONFIRMED
TRANSP:TRANSPARENT
SEQUENCE:1
END:VEVENT
END:VCALENDAR
