BEGIN:VCALENDAR
VERSION:2.0
BEGIN:VEVENT
UID:19EC425A-3546-4C28-BB95-248DA0CB5C0F
DTSTART:20240518T180000Z
DTEND:20240518T210000Z
SUMMARY:CityLine LIVE featuring Jason Hatch
DESCRIPTION:CityLine LIVE Concert Series will return to the CityLine Plaza
  on Friday\, April 5! Soak up the weekend outside in The Plaza every Frida
 y and Saturday in April and May from 6 to 9 p.m.   \nBring your own picnic
  blankets and lawn chairs to listen to each artist on The Plaza lawn or li
 sten from any State Street restaurant patio. This free event is BYOB\, dog
 -friendly and kid-friendly with free garage parking.\nThe Plaza at CityLin
 e\n1150 State St.\nRichardson\, TX 75082 United States\n
LOCATION:1150 State St.\, Richardson\, TX 75082
URL:http://richardson.bubblelife.com/community/richardson_calendar/library/
 35609482/key/3511255612/CityLine_LIVE_featuring_Jason_Hatch
CREATED:20240314T210550Z
LAST-MODIFIED:20240314T210550Z
DTSTAMP:20260423T044734Z
CLASS:PUBLIC
STATUS:CONFIRMED
TRANSP:TRANSPARENT
SEQUENCE:1
END:VEVENT
END:VCALENDAR
