BEGIN:VCALENDAR
VERSION:2.0
BEGIN:VEVENT
UID:B8BD717C-214C-4AD4-BACD-C6AE3C8B25F4
DTSTART:20240525T180000Z
DTEND:20240525T210000Z
SUMMARY:CityLine LIVE featuring Shelby Ballenger
DESCRIPTION:CityLine LIVE Concert Series will return to the CityLine Plaza
  on Friday\, April 5! Soak up the weekend outside in The Plaza every Frida
 y and Saturday in April and May from 6 to 9 p.m.   \nBring your own picnic
  blankets and lawn chairs to listen to each artist on The Plaza lawn or li
 sten from any State Street restaurant patio. This free event is BYOB\, dog
 -friendly and kid-friendly with free garage parking.\nThe Plaza at CityLin
 e\n1150 State St.\nRichardson\, TX 75082 United States\n
LOCATION:1150 State St.\, Richardson\, TX 75082
URL:http://richardson.bubblelife.com/community/richardson_calendar/library/
 35609482/key/3511255651/CityLine_LIVE_featuring_Shelby_Ballenger
CREATED:20240314T205157Z
LAST-MODIFIED:20240314T205157Z
DTSTAMP:20260423T044725Z
CLASS:PUBLIC
STATUS:CONFIRMED
TRANSP:TRANSPARENT
SEQUENCE:1
END:VEVENT
END:VCALENDAR
