BEGIN:VCALENDAR
VERSION:2.0
BEGIN:VEVENT
UID:26D467CE-D44B-4CDF-B4D0-85AE1E53DBA5
DTSTART:20260423T000000Z
DTEND:20260501T000000Z
SUMMARY:20th Dallas International Film Festival 2026
DESCRIPTION:The Dallas International Film Festival returns April 23 to Apri
 l 30\, 2026\, for its 20th edition at venues including Cinépolis Luxury Ci
 nemas Victory Park\, Texas Theatre\, and Virgin Hotels Dallas. The eight-d
 ay festival will feature more than 120 film screenings\, filmmaker and act
 or Q&As\, red carpets\, and special events\, including the Opening Night w
 orld premiere of Last Shot\, a Founders Night screening of Round Pegs Squa
 re Holes\, a luncheon honoring Lou Diamond Phillips\, and the Closing Nigh
 t U.S. premiere of Kenny Loggins: Conviction of the Heart. \n  \n WHEN:  A
 pril 23 to April 30\, 2026 \n  \n WHERE: Cinépolis Luxury Cinemas Victory
  Park\, 2365 Victory Park Ln\, Dallas\, TX 75219 \nAdditional screenings a
 nd events at Texas Theatre and Virgin Hotels Dallas \n  \n TICKETS: $50-$3
 00 \n https://diffdallas2026.eventive.org/passes/buy\nCinépolis Luxury Cin
 emas Victory Park\n2365 Victory Park Ln\nDallas\, TX 75219 United States\n
LOCATION:2365 Victory Park Ln\, Dallas\, TX 75219
URL:http://richardson.bubblelife.com/community/angle_herr_llc/library/35168
 40190/key/3511778500/20th_Dallas_International_Film_Festival_2026
CREATED:20260416T221129Z
LAST-MODIFIED:20260416T221129Z
DTSTAMP:20260423T010820Z
CLASS:PUBLIC
STATUS:CONFIRMED
TRANSP:TRANSPARENT
SEQUENCE:1
END:VEVENT
END:VCALENDAR
