BEGIN:VCALENDAR
VERSION:2.0
BEGIN:VEVENT
UID:C001A04C-3B9F-4B22-B84B-7EF8E92F11BA
DTSTART:20240907T180000Z
DTEND:20240907T210000Z
SUMMARY:CityLine LIVE featuring Kirk Holloway
DESCRIPTION:CityLine LIVE is back in time for the fall season at CityLine i
 n Richardson. Tune in every Friday and Saturday for a lineup of local tale
 nt with various music genres that include pop\, rock\, blues\, county\, ja
 zz\, latin\, and so much more. From Sept. 6 through Oct. 28\, guests can e
 njoy the free outdoor music series from 6-9 p.m. in The Plaza. CityLine LI
 VE is BYOB\, dog-friendly and family-friendly.\nCityLine Plaza\n1150 State
  St\nRichardson\, TX 75082 United States\n
LOCATION:1150 State St\, Richardson\, TX 75082
URL:http://richardson.bubblelife.com/community/richardson_calendar/library/
 35609482/key/3511802991/CityLine_LIVE_featuring_Kirk_Holloway
CREATED:20240816T220223Z
LAST-MODIFIED:20240816T220223Z
DTSTAMP:20260423T044734Z
CLASS:PUBLIC
STATUS:CONFIRMED
TRANSP:TRANSPARENT
SEQUENCE:1
END:VEVENT
END:VCALENDAR
