BEGIN:VCALENDAR
VERSION:2.0
BEGIN:VEVENT
UID:7631F21B-B5BC-4AEF-96B6-E3F1F013525C
DTSTART:20241012T180000Z
DTEND:20241012T210000Z
SUMMARY:CityLine LIVE featuring Joshua Stone
DESCRIPTION:CityLine LIVE is back in time for the fall season at CityLine i
 n Richardson. Tune in every Friday and Saturday for a lineup of local tale
 nt with various music genres that include pop\, rock\, blues\, county\, ja
 zz\, latin\, and so much more. From Sept. 6 through Oct. 28\, guests can e
 njoy the free outdoor music series from 6-9 p.m. in The Plaza. CityLine LI
 VE is BYOB\, dog-friendly and family-friendly. \nIn celebration of the new
  season\, CityLine LIVE is introducing theme nights. Starting with Beach N
 ight on Sept. 6\, Latin Night on Sept. 20\, 90s Country Night on Oct. 11\,
  Alternative 90s Night on Oct. 12\, and Classic Rock Night on Oct. 25\, ea
 ch themed night will feature music tailored to the specific genre.\nCityLi
 ne Plaza\n1150 State St\nRichardson\, TX 75082 United States\n
LOCATION:1150 State St\, Richardson\, TX 75082
URL:http://richardson.bubblelife.com/community/richardson_calendar/library/
 35609482/key/3511807081/CityLine_LIVE_featuring_Joshua_Stone
CREATED:20240903T184717Z
LAST-MODIFIED:20240903T184717Z
DTSTAMP:20260423T062514Z
CLASS:PUBLIC
STATUS:CONFIRMED
TRANSP:TRANSPARENT
SEQUENCE:1
END:VEVENT
END:VCALENDAR
