BEGIN:VCALENDAR
VERSION:2.0
BEGIN:VEVENT
UID:7CABEFDC-762B-4726-BBDD-D19FDCC92F85
DTSTART:20241018T180000Z
DTEND:20241018T210000Z
SUMMARY:CityLine LIVE featuring Griffin Holtby
DESCRIPTION:CityLine LIVE is back in time for the fall season at CityLine i
 n Richardson. Tune in every Friday and Saturday for a lineup of local tale
 nt with various music genres that include pop\, rock\, blues\, county\, ja
 zz\, latin\, and so much more. From Sept. 6 through Oct. 28\, guests can e
 njoy the free outdoor music series from 6-9 p.m. in The Plaza. CityLine LI
 VE is BYOB\, dog-friendly and family-friendly.\nCityLine Plaza\n1150 State
  St\nRichardson\, TX 75082 United States\n
LOCATION:1150 State St\, Richardson\, TX 75082
URL:http://richardson.bubblelife.com/community/richardson_calendar/library/
 35609482/key/3511807373/CityLine_LIVE_featuring_Griffin_Holtby
CREATED:20240903T153712Z
LAST-MODIFIED:20240903T153712Z
DTSTAMP:20260423T044734Z
CLASS:PUBLIC
STATUS:CONFIRMED
TRANSP:TRANSPARENT
SEQUENCE:1
END:VEVENT
END:VCALENDAR
