BEGIN:VCALENDAR
VERSION:2.0
BEGIN:VEVENT
UID:DDB0D0CF-2612-4760-B098-B168237F0460
DTSTART:20230526T180000Z
DTEND:20230526T210000Z
SUMMARY:CityLine LIVE featuring The Matthew Band
DESCRIPTION:CityLine LIVE is back in the Plaza to kick off the spring seaso
 n with local artists. Friends\, families and pets are all welcome to join
  in the fun every Friday and Saturday in April and May from 6 to 9 p.m. \n
 Enjoy the shows from your picnic blankets or lawn chairs on the Plaza lawn
 \, from one of the dining tables across the Plaza or from any State Street
  restaurant patio. \nCheck out CityLine’s event page for all the exciting
  classes happening this spring and summer.\nThe Plaza at CityLine\n1150 St
 ate Street\nRichardson\, TX 75082 United States\n
LOCATION:1150 State Street\, Richardson\, TX 75082
URL:http://richardson.bubblelife.com/community/richardson_calendar/library/
 35609482/key/3511913310/CityLine_LIVE_featuring_The_Matthew_Band
CREATED:20230427T184815Z
LAST-MODIFIED:20230427T184815Z
DTSTAMP:20260423T095248Z
CLASS:PUBLIC
STATUS:CONFIRMED
TRANSP:TRANSPARENT
SEQUENCE:1
END:VEVENT
END:VCALENDAR
