BEGIN:VCALENDAR
VERSION:2.0
BEGIN:VEVENT
UID:DD1979E0-A930-4AFE-8768-F07C41710C87
DTSTART:20230505T180000Z
DTEND:20230505T210000Z
SUMMARY:CityLine LIVE with Mariachi Arraigo & Jenna Clark
DESCRIPTION:Starting April 7\, CityLine LIVE will return to the Plaza to ki
 ck off the spring season with local artists. Friends\, families and pets a
 re all welcome to join in the fun every Friday and Saturday in April and M
 ay from 6 to 9 p.m. \nEnjoy the shows from your picnic blankets or lawn ch
 airs on the Plaza lawn\, from one of the dining tables across the Plaza or
  from any State Street restaurant patio. \nCheck out CityLine’s event page
  for all the exciting classes happening this spring and summer.\nThe Plaza
  at CityLine\n1150 State Street\nRichardson\, TX 75082 United States\n
LOCATION:1150 State Street\, Richardson\, TX 75082
URL:http://richardson.bubblelife.com/community/richardson_calendar/library/
 35609482/key/3511942621/CityLine_LIVE_with_Mariachi_Arraigo_Jenna_Clark
CREATED:20230414T205637Z
LAST-MODIFIED:20230414T205637Z
DTSTAMP:20260423T095223Z
CLASS:PUBLIC
STATUS:CONFIRMED
TRANSP:TRANSPARENT
SEQUENCE:1
END:VEVENT
END:VCALENDAR
