BEGIN:VCALENDAR
VERSION:2.0
BEGIN:VEVENT
UID:E621260C-36E6-41FD-84B8-341199A05815
DTSTART:20230603T180000Z
DTEND:20230603T210000Z
SUMMARY:CityLine LIVE featuring RCN Jazz Band
DESCRIPTION:CityLine LIVE  is back in the Plaza to kick off the summer seas
 on with local artists. Friends\, families and pets are all welcome to join
  in the fun Saturday from 6 to 9 p.m. \nEnjoy the shows from your picnic b
 lankets or lawn chairs on the Plaza lawn\, from one of the dining tables a
 cross the Plaza or from any State Street restaurant patio. \nCheck out Cit
 yLine’s event page for all the exciting classes happening this spring and
  summer.\nThe Plaza at CityLine\n1150 State Street\nRichardson\, TX 75082
  United States\n
LOCATION:1150 State Street\, Richardson\, TX 75082
URL:http://richardson.bubblelife.com/community/richardson_calendar/library/
 35609482/key/3511951110/CityLine_LIVE_featuring_RCN_Jazz_Band
CREATED:20230525T183937Z
LAST-MODIFIED:20230525T183937Z
DTSTAMP:20260423T095207Z
CLASS:PUBLIC
STATUS:CONFIRMED
TRANSP:TRANSPARENT
SEQUENCE:1
END:VEVENT
END:VCALENDAR
