BEGIN:VCALENDAR
VERSION:2.0
BEGIN:VEVENT
UID:588AC1D7-CB92-4FEC-A535-A20DE8EEB613
DTSTART:20230609T180000Z
DTEND:20230609T220000Z
SUMMARY:CityLine Summer Night Market
DESCRIPTION:The CityLine Night Market by  The Boho Market  is here for the
  summer! \n Support local makers and vendors with more than 45 booths feat
 uring handmade and vintage goods\, plus live music to enjoy while you shop
 . Bring friends and family to shop\, indulge\, and discover the treasures
  of The Boho Market and CityLine. \n Enjoy dinner at one of the 30+ dining
  options throughout CityLine\, or pick up dinner and drinks to-go.\nThe Pl
 aza at CityLine\n1150 State Street\nRichardson\, TX 75082 United States\n
LOCATION:1150 State Street\, Richardson\, TX 75082
URL:http://richardson.bubblelife.com/community/richardson_calendar/library/
 35609482/key/3511951160/CityLine_Summer_Night_Market
CREATED:20230525T183500Z
LAST-MODIFIED:20230525T183500Z
DTSTAMP:20260423T095207Z
CLASS:PUBLIC
STATUS:CONFIRMED
TRANSP:TRANSPARENT
SEQUENCE:1
END:VEVENT
END:VCALENDAR
