BEGIN:VCALENDAR
VERSION:2.0
BEGIN:VEVENT
UID:89A71FF8-4120-44FD-977D-AE0178F1C3B1
DTSTART:20230527T180000Z
DTEND:20230527T210000Z
SUMMARY:CityLine LIVE featuring Jade Nickol
DESCRIPTION:CityLine LIVE  is back in the Plaza to kick off the spring seas
 on with local artists. Friends\, families and pets are all welcome to join
  in the fun every Friday and Saturday in April and May from 6 to 9 p.m. \n
   \nEnjoy the shows from your picnic blankets or lawn chairs on the Plaza
  lawn\, from one of the dining tables across the Plaza or from any State S
 treet  restaurant  patio. \n  \nCheck out CityLine’s  event page  for all
  the exciting classes happening this spring and summer.\nThe Plaza at City
 Line\n1150 State Street\nRichardson\, TX 75082 United States\n
LOCATION:1150 State Street\, Richardson\, TX 75082
URL:http://richardson.bubblelife.com/community/richardson_calendar/library/
 35609482/key/3511960182/CityLine_LIVE_featuring_Jade_Nickol
CREATED:20230516T154412Z
LAST-MODIFIED:20230516T154412Z
DTSTAMP:20260423T095248Z
CLASS:PUBLIC
STATUS:CONFIRMED
TRANSP:TRANSPARENT
SEQUENCE:1
END:VEVENT
END:VCALENDAR
