BEGIN:VCALENDAR
VERSION:2.0
BEGIN:VEVENT
UID:11E28EFB-9A52-47B3-814E-5404CDB06420
DTSTART:20230923T180000Z
DTEND:20230923T210000Z
SUMMARY:CityLine LIVE Fall Concert Series
DESCRIPTION:The CityLine LIVE concert series kicks off this September with
  a lineup of local talent stacked with a variety of music genres including
  Pop\, Rock\, Country and Jazz. \nStarting on September 1 st through Octob
 er 28\, friends and family are encouraged to enjoy the free outdoor music
  series from 6 to 9 p.m. on the Plaza. Check out the to-go cocktail option
 s offered at all CityLine restaurants before you settle down on the lawn o
 r visit any State Street restaurant to enjoy the music dining al fresco on
  the patio. \nCityLine restaurant options like Oni Ramen \, Ace’s Sports H
 angar \, Fernando’s Mexican Cuisine \, Good Union Urban BBQ \, Char’d Sout
 heast Asian Kitchen \, Tricky Fish \, The Brass Tap and Jasper’s offer sev
 eral to-go options for you to savor alongside the tunes.\nCityLine Plaza\n
 1150 State Street\nRichardson\, TX 75082 United States\n
LOCATION:1150 State Street\, Richardson\, TX 75082
URL:http://richardson.bubblelife.com/community/richardson_calendar/library/
 35609482/key/3511971112/CityLine_LIVE_Fall_Concert_Series
CREATED:20230822T181725Z
LAST-MODIFIED:20230822T181725Z
DTSTAMP:20260423T113518Z
CLASS:PUBLIC
STATUS:CONFIRMED
TRANSP:TRANSPARENT
SEQUENCE:1
END:VEVENT
END:VCALENDAR
